BEGIN:VCALENDAR
VERSION:2.0
PRODID:-//Devoran Pilot Gig Club - ECPv6.10.1.1//NONSGML v1.0//EN
CALSCALE:GREGORIAN
METHOD:PUBLISH
X-WR-CALNAME:Devoran Pilot Gig Club
X-ORIGINAL-URL:https://www.devorangigclub.co.uk
X-WR-CALDESC:Events for Devoran Pilot Gig Club
REFRESH-INTERVAL;VALUE=DURATION:PT1H
X-Robots-Tag:noindex
X-PUBLISHED-TTL:PT1H
BEGIN:VTIMEZONE
TZID:Europe/London
BEGIN:DAYLIGHT
TZOFFSETFROM:+0000
TZOFFSETTO:+0100
TZNAME:BST
DTSTART:20260329T010000
END:DAYLIGHT
BEGIN:STANDARD
TZOFFSETFROM:+0100
TZOFFSETTO:+0000
TZNAME:GMT
DTSTART:20261025T010000
END:STANDARD
END:VTIMEZONE
BEGIN:VEVENT
DTSTART;VALUE=DATE:20260501
DTEND;VALUE=DATE:20260504
DTSTAMP:20260423T114903
CREATED:20260423T101737Z
LAST-MODIFIED:20260423T102004Z
UID:1286-1777593600-1777852799@www.devorangigclub.co.uk
SUMMARY:Isles of Scilly World Pilot Gig Championships
DESCRIPTION:The highlight of the Gig Rowing year! \n \n 
URL:https://www.devorangigclub.co.uk/calendar-event/isles-of-scilly-world-gig-championships/
LOCATION:Isles of Scilly
CATEGORIES:Race
ATTACH;FMTTYPE=image/jpeg:https://www.devorangigclub.co.uk/wp-content/uploads/2022/02/scilly1.jpg
END:VEVENT
END:VCALENDAR